BEGIN:VCALENDAR
VERSION:2.0
PRODID:-//Eventin//Event Calendar//EN
CALSCALE:GREGORIAN
METHOD:PUBLISH
BEGIN:VEVENT
UID:c11cfcdfe3bb5f23a48d0c92027eb5e2@intimatepartiesgroup.com
SUMMARY:IPG Presents: “CINCO DE PEDRO” – 2 DAY ENTIRE HOTEL TAKEOVER 
 WEEKEND – CINCO DE MAYO CELEBRATION
DESCRIPTION:IPG Presents: “CINCO DE PEDRO” – 2 DAY ENTIRE HOTEL TAKEO
 VER WEEKEND CINCO DE MAYO CELEBRATION\nFriday\, May 1st & Saturday\, May 2n
 d - Scranton\, PAThe Rodeo Is in Town!\nIPG! Saddle up for the ultimate fie
 sta. This is a full-2 day hotel takeover—every room\, every corner\, all 
 ours. Cinco de Pedro is coming in hot with Pedro the mechanical bull\, a ta
 co bar\, and nonstop\, unforgettable fun. Don’t miss the ride.\nEXCLUSIVE
 LY FOR COUPLES AND SINGLE FEMALES\, ALL MUST BE AGE 23 AND OVER Absolutely 
 No Single Males. NO EXCEPTIONS\nTICKETS INFO:FOR TICKETS\, Please VISIT our
  Site INTIMATEPARTIESGROUP.COM\, Complete Hotel info and Group Secure Code 
 will be listed on the Ticket Confirmation. SCROLL DOWN ON TICKETS CONFIRMAT
 ION AFTER PURCHASE TO FIND HOST HOTEL INFO. You can call the hotel for rese
 rvations from that point on. Hotel Requires a 2 night minimum\, (Hotel rule
  not IPG)\, Rooms are from $119-139.- depending on type of room or time of 
 booking\, book early to save. IF\, You only require a Saturday only room\, 
 Please Ask Front Desk to Add you to the Saturday only room waiting list. IF
  YOUR PLANS CHANGE AFTER BUYING TICKETS\, WE HAVE A 48 HRS NO QUESTIONS ASK
 ED REFUND POLICY. THE BEST IN THE LIFESTYLE.NO OUTSIDE DRINKS IN LOUNGE OR 
 BALLROOM BETWEEN 8PM-MIDNIGHT BOTH DAYS. 100% BYOB ANYWHERE ELSE.\nEnjoy th
 e heated indoor pool\, open all day and night for your pleasure! While the 
 host hotel does provide pool towels\, we strongly recommend you bring your 
 own. Seriously—BRING YOUR OWN POOL TOWELS… and yes\, we’re saying it 
 again: bring your own pool towels. We also recommend that you bring robes o
 r some sort of cover up for when you leave the pool to avoid feeling cold i
 n the hallways. The hallways tend to FEEL chilly when leaving the very hot 
 and steamy HEATED pool area.\nFRIDAY NIGHT:\n6:30 PM – 7:45PM: Naughty Tr
 ivia – Test your knowledge and quick wit in a fun\, interactive trivia ga
 me. Bring your A-game and compete for bragging rights!8PM - 9:00 PM: Break 
 the ice and get to know fellow guests before the party kicks into high gear
 . A perfect chance to mingle\, grab a drink\, and make new connections.9:00
  PM - Midnight: Dance Party – Get ready to hit the dance floor with high-
 energy beats\, great vibes\, and a crowd that knows how to party!Midnight -
  3:00 AM: Pool Party – Keep the night alive with a late-night splash! Mus
 ic\, drinks\, and good company will make this a poolside experience you won
 ’t forget.\nSATURDAY EVENTS:\n2:00 PM - 3:00 PM: Pool Party with Games & 
 Shots – Take a dip and enjoy some playful poolside games\, plus a few rou
 nds of shots to spice things up!3:00 PM - 4:00 PM: Electric Play – Sample
  a variety of fine spirits and discover your new favorite drink with fellow
  enthusiasts.4:00 PM - 5:00 PM: Speed Dating – A fun\, fast-paced way to 
 meet new people! Whether you're looking for a spark or just some laughs\, t
 his is the perfect way to mix and mingle.5:00 PM - 6:00 PM: Swingo – Bing
 o with a naughty twist! Join the fun and win some playful prizes.6:00 PM - 
 7:30 PM: Pre-Party at Room #206 –this laid-back gathering offers plenty o
 f drinks and snacks. Come as you are—street clothes\, sexy club wear\, or
  even bare-assed naked—whatever makes you comfortable!If you would like t
 o bring something to share for the Potluck you can drop it off at the check
 -in desk.\nMain Event\n - 8:30 PM - 8:45 PM: Main Event (Snacks Provided) 
 – Grab some bites before the show begins. Comedy Show and Best Mexican Ou
 tfit/Hat- starts promptly at 8:45 PM—seating is limited\, so don’t be l
 ate! NO SEAT HOLDING ALLOWED.\nSimultaneously after the main event\, enjoy 
 the dance party in the ballroom and karaoke in the lounge till midnight.\nM
 idnight - 2:00 AM: Amazing Potluck After-Parties & Themed Rooms – Head to
  the second floor\, around Room #208\, for a variety of themed experiences\
 , food\, and fun.\n2:00 AM - 4:00 AM: Pool Party & Dessert – End the nigh
 t with a final dip\, delicious treats\, and late-night laughs under the sta
 rs.\nOptional Dress Code: Sexy rodeo cowgirls and cowboys with boots\, hats
 \, fringe\, denim\, leather\, chaps\, crop tops\, short skirts\, or come dr
 essed to flirt\, dance\, ride\, and play.\nPreference Bracelets will be pro
 vided:Green: Full SwapYellow: Soft SwapPurple: TameRed: Bisexual\nIMPORTANT
  INFO:Bracelets Required: Event bracelets provided at check-in. Security wi
 ll escort anyone without a bracelet off the premises.This Cinco de Mayo Fia
 sco promises Super hot and friendly couples\, tequila\, and fun you'll neve
 r forget. Come for the tacos\, stay for the wild rides. We can’t wait to 
 party with you all!Maddy & JoeIPG Baby!
LOCATION:Scranton PA
DTSTAMP:20260423T125202Z
DTSTART:20260501T180000Z
DTEND:20260503T150000Z
END:VEVENT
END:VCALENDAR
