BEGIN:VCALENDAR
VERSION:2.0
PRODID:-//Eventin//Event Calendar//EN
CALSCALE:GREGORIAN
METHOD:PUBLISH
BEGIN:VEVENT
UID:87d5ced9662f7542a212cd1305eebc44@intimatepartiesgroup.com
SUMMARY:IPG HALLOWEEN EVENT\, SCARE ME STIFF\, 2 DAYS ENTIRE HOTEL HALLOWEE
 N EVENT. 19 yrs in a row. The largest Halloween event in the country. SCRAN
 TON\, PA
DESCRIPTION:Get ready for the HOTTEST and MOST POPULAR LIFESTYLE party in t
 he COUNTRY!! FRIDAY\, OCT 23RD & SATURDAY\, OCT 24TH. IPG’s Scare Me STIF
 F Halloween PARTY IS HERE! Step into the shadows where temptation runs wild
  and your deepest cravings are free to breathe\, limited only by how far yo
 u dare to go. Under a moonlit sky charged with lust and anticipation\, the 
 air hums with promise—much like our always sold-to-capacity crowd. If you
  ache to unleash your inner beast\, crave being your freakiest self\, or fa
 ntasize about surrendering to the deliciously dangerous creatures lurking i
 n the dark\, then this is the night you’ve been waiting for. Sinister\, s
 eductive\, and irresistibly wicked—this is one Halloween experience that
 ’s absolutely to die for.\nTo Secure your spot/ticket Please visiting our
  website at INTIMATEPARTIESGROUP.COM\, to purchase your tickets today! Once
  you've secured your tickets\, simply open them up and scroll down to find 
 all the juicy details you need. From the complete hotel information to your
  exclusive group secure code\, it's all there on your confirmation. Hotel R
 equires a 2 night minimum. BOOK EARLY AND SAVE! IF\, You only require a Sat
 urday only room\, Please ask Front Desk to Add you to the Saturday only roo
 m waiting list.. IF YOUR PLANS CHANGE AFTER BUYING TICKETS\, WE HAVE A 48 H
 RS NO QUESTIONS ASKED REFUND POLICY. THE BEST IN THE LIFESTYLE. Date/locati
 on. Early Hotel Check-in. 2pm Friday\, OCTOBER 23RD & Saturday\, 0CTOBER 24
 TH SCRANTON\, PA.... EXTREMELY lifestyle FRIENDLY Hotel and staff and Conve
 niently Located off HWY 81.\n23 Yrs Old and older. COUPLES & SINGLE FEMALES
  ONLY \, SINGLE FEMALES MUST BE ESCORTED BY ATTENDING COUPLE IN ORDER TO AT
 TEND. (Absolutely No Single Males\, No Exceptions.)\nNO OUTSIDE DRINKS IN L
 OUNGE OR BALLROOM BETWEEN 8PM-MIDNIGHT BOTH DAYS. 100% BYOB ANYWHERE ELSE.\
 n-Conveniently right across the street from the hotel you’ll find a full 
 supermarket\, Chinese restaurant\, Italian restaurant\, liquor store\, doll
 ar store\, and several other shops and eateries. Everything you might need 
 is just steps away\, making it easy to grab a bite\, pick up essentials\, o
 r stock up without ever moving your car.\nEnjoy the heated indoor pool\, op
 en all day and night for your pleasure! While the host hotel does provide p
 ool towels\, we strongly recommend you bring your own. Seriously—BRING YO
 UR OWN POOL TOWELS… and yes\, we’re saying it again: bring your own poo
 l towels. We also recommend that you bring robes or some sort of cover up f
 or when you leave the pool to avoid feeling cold in the hallways. The hallw
 ays tend to FEEL chilly when leaving the very hot and steamy HEATED pool ar
 ea.\nFRIDAY NIGHT – OCT 23rd\n6:30 PM – 7:45 PM: Naughty Trivia: Kick o
 ff the night with flirty\, fun\, and slightly scandalous trivia designed to
  loosen inhibitions\, spark laughter\, and set the tone for what’s to com
 e.\n8:00 PM – 8:30 PM: Meet & Greet: Mix\, mingle\, and connect as the cr
 owd comes together and the energy begins to rise.\n8:30 PM – MIDNIGHT: Da
 nce Party: Take over the dance floor with high-energy beats\, sultry vibes\
 , and nonstop movement that keeps the night pulsing.\n9:30 PM – SPECIAL P
 RESENTATION AT THE LOUNGE\nMidnight – 2:00 AM: DJ Pool Party:The night he
 ats up in the perfectly heated pool with late-night music\, splashes\, and 
 indulgent after-dark fun beneath glowing Mardi Gras-style lights.\nSATURDAY
  – OCT 24TH\n1:00 PM – 2:00 PM – SPECIAL DEMO\n2:00 PM – 3:00 PM 
 — Pool Party with Games and Shots: Soak\, splash\, and play with lively p
 oolside games and spirited shots that keep the energy flowing.\n3:00 PM –
  4:00 PM — Electric Demo: Violet Wand Play: Witness or experience the tea
 sing intensity of violet wand play as sensations spark curiosity\, connecti
 on\, and exploration.\n4:00 PM – 5:00 PM — Speed Dating: A fun\, fast-p
 aced opportunity to meet new faces\, share quick conversations\, and see wh
 ere the chemistry leads.\n5:00 PM – 6:00 PM — Swingo: HALLOWEEN Edition
 : Bingo with a naughty twist—expect playful calls\, festive mischief\, la
 ughs\, and tempting prizes.\n6:00 PM – 7:30 PM — Pre-Party on the Party
  Floor: Relax\, socialize\, and enjoy drinks and snacks in an open\, judgme
 nt-free atmosphere. Street clothes\, club wear\, or nothing at all—show u
 p exactly as you are.\nSATURDAY NIGHT MAIN EVENT\n8:30 PM – 8:45 PM: Main
  Event (Snacks Provided) Grab a bite and get settled before the show begins
  promptly at 8:45 PM\, featuring the MOST CREATIVE HALLOWEEN CONTEST. Seati
 ng is limited—NO SEAT HOLDING ALLOWED.\n9:30 PM – Midnight — Followin
 g the main event\, enjoy simultaneous nightlife with a dance party in the b
 allroom and a special event in the lounge.\nMidnight – 2:00 AM — Potluc
 k After-Parties & Themed Rooms - Explore immersive themed rooms throughout 
 the party floor. Bring a favorite dish or dessert to share—potluck donati
 ons may be dropped at the check-in table Friday or Saturday before 11pm.\n2
 :00 AM – 4:00 AM — Pool Party & Dessert Wind-Down : End the night with 
 one last dip\, decadent desserts\, and a smooth\, relaxed close to an unfor
 gettable evening.\nWe are providing event bracelets to all... Bouncers will
  escort anyone without event bracelets off the premises.\nDRESS CODE: Hallo
 ween Costume not feeling it then casual but neat\, or dress to impress! kee
 p it sexy!\nLove you all!!\nJoe & Maddy\nIPG BABY!!!
LOCATION:Scranton PA
DTSTAMP:20260423T124957Z
DTSTART:20261023T220000Z
DTEND:20261025T150000Z
END:VEVENT
END:VCALENDAR
